BEGIN:VCALENDAR
BEGIN:VEVENT
CATEGORIES:Miscellaneous
LOCATION:
STATUS:TENTATIVE
DTSTART:20260506T153000Z
DTEND:20260506T153000Z
TITLE:Promoção da intervenção farmacêutica na vacinação
SUMMARY:Promoção da intervenção farmacêutica na vacinação
DESCRIPTION:A vacina&ccedil;&atilde;o em farm&aacute;cias (PBV) &eacute; uma solu&ccedil;&atilde;o comprovada e escal&aacute;vel que melhora os resultados em sa&uacute;de p&uacute;blica, d&aacute; resposta &agrave; escassez de profissionais de sa&uacute;de e promove o envelhecimento saud&aacute;vel. Este evento ir&aacute; explorar como a PBV pode fortalecer os sistemas de sa&uacute;de e colmatar lacunas na cobertura, em particular nos pa&iacute;ses da AFPLP. Ir&aacute; tamb&eacute;m analisar dados globais, partilhar ideias pr&aacute;ticas para a implementa&ccedil;&atilde;o e destacar a import&acirc;ncia de refor&ccedil;ar as capacidades da for&ccedil;a de trabalho e de criar estruturas de apoio para garantir que os farmac&ecirc;uticos possam contribuir de forma sustent&aacute;vel para as estrat&eacute;gias nacionais de imuniza&ccedil;&atilde;o.
Moderador:- Gon&ccedil;alo Sousa Pinto, Diretor de Filia&ccedil;&atilde;o e Envolvimento Regional, FIP, Pa&iacute;ses Baixos
Co-moderadora:- C&eacute;lia Alves da Silva, Diretora Executiva, AFPLP, Portugal
Palestrantes:- Lu&iacute;s Louren&ccedil;o, Vice-Presidente, FIP, Portugal- Renata Andrade, Professora e pesquisadora, Universidade Federal de Juiz de Fora, Brasil- Teresa Almeida, Membro do conselho de administra&ccedil;&atilde;o, Associa&ccedil;&atilde;o Nacional das Farm&aacute;cias (ANF), Portugal
*Tenha em aten&ccedil;&atilde;o que &eacute; necess&aacute;ria uma conta Zoom para se inscrever neste evento digital da FIP. Se receber uma mensagem de erro durante a inscri&ccedil;&atilde;o, crie uma conta Zoom e utilize o endere&ccedil;o de e-mail correspondente para a sua inscri&ccedil;&atilde;o.

CLASS:PRIVATE
END:VEVENT
END:VCALENDAR