BEGIN:VCALENDAR
BEGIN:VEVENT
CATEGORIES:Miscellaneous
LOCATION:
STATUS:TENTATIVE
DTSTART:20260518T123000Z
DTEND:20260518T123000Z
TITLE:Use of real-world data to secure the supply chain- Medicines verification systems
SUMMARY:Use of real-world data to secure the supply chain- Medicines verification systems
DESCRIPTION:This digital event will focus on the use of Real World Data in securing the pharmaceutical supply chain. It will provide a global overview on initiatives to prevent falsified and fraudulent medicines entering the supply chain. It will examine examples of systems in Developed, Low and Middle Income Countries and also what the future holds e.g. implementation of the Drug Supply Chain Security Act (DSCSA) in the USA and developments in other countries.&nbsp;
Chair:- Paul Fahey, Chair, FIP Working Group on DATA, Ireland
Panellists:- Leonie Clarke, Chief Executive, Irish Medicines Verification Organisation, Ireland- Grant Courtney, Independent Consultant - Traceability Lead TRVST, UNICEF, UK- Sonia Queiros, Chief Operating Officer, European Medicines Verification Organisation (EMVO), Portugal
*Please note that a Zoom account is required to register for this FIP Digital Event. If you are receiving an error message during registration, please create a Zoom account and use the corresponding email address for your registration.


CLASS:PRIVATE
END:VEVENT
END:VCALENDAR